BEGIN:VCALENDAR
VERSION:2.0
PRODID:-//Vjenne Vleigers//Agenda//NL
CALSCALE:GREGORIAN
METHOD:PUBLISH
BEGIN:VEVENT
UID:e2f01f3c-3f72-4207-b483-8b37fa75e2d3@vjennevleigers.nl
DTSTAMP:20260420T062212Z
DTSTART:20260426T204400Z
DTEND:20260427T004400Z
SUMMARY:Clubdag buiten
LOCATION:Hazenpad\, Vriezenveen
END:VEVENT
END:VCALENDAR