BEGIN:VCALENDAR
VERSION:2.0
PRODID:-//Vjenne Vleigers//Agenda//NL
CALSCALE:GREGORIAN
METHOD:PUBLISH
BEGIN:VEVENT
UID:df494404-953e-4f17-b97f-bd41f7447f39@vjennevleigers.nl
DTSTAMP:20260420T061414Z
DTSTART:20260503T204456Z
DTEND:20260503T234456Z
SUMMARY:Indoor training
LOCATION:Sporthal De Klaampe\, Westerhaar
END:VEVENT
END:VCALENDAR