BEGIN:VCALENDAR
VERSION:2.0
PRODID:-//Vjenne Vleigers//Agenda//NL
CALSCALE:GREGORIAN
METHOD:PUBLISH
BEGIN:VEVENT
UID:2cd7fc9c-3335-483e-8d23-4b92e66c0c40@vjennevleigers.nl
DTSTAMP:20260420T062233Z
DTSTART:20260429T204456Z
DTEND:20260430T004456Z
SUMMARY:Clubdag buiten
LOCATION:Hazenpad\, Vriezenveen
END:VEVENT
END:VCALENDAR